BEGIN:VCALENDAR
VERSION:2.0
PRODID:-//wp-events-plugin.com//7.2.3.1//EN
TZID:America/Detroit
X-WR-TIMEZONE:America/Detroit
BEGIN:VEVENT
UID:77@miatsa.org
DTSTART;TZID=America/Detroit:20201113T083000
DTEND;TZID=America/Detroit:20201113T153000
DTSTAMP:20201119T010828Z
URL:https://miatsa.org/events/2020-conference/
SUMMARY:MI-ATSA Conference 2020
DESCRIPTION:Strengths-Based Concepts and Interventions for Sex Offense-Spec
 ific Services\n
CATEGORIES:Conferences
END:VEVENT
BEGIN:VTIMEZONE
TZID:America/Detroit
X-LIC-LOCATION:America/Detroit
BEGIN:STANDARD
DTSTART:20201101T010000
TZOFFSETFROM:-0400
TZOFFSETTO:-0500
TZNAME:EST
END:STANDARD
END:VTIMEZONE
END:VCALENDAR