BEGIN:VCALENDAR
VERSION:2.0
PRODID:-//wp-events-plugin.com//7.2.3.1//EN
TZID:America/Detroit
X-WR-TIMEZONE:America/Detroit
BEGIN:VEVENT
UID:103@miatsa.org
DTSTART;TZID=America/Detroit:20220225T090000
DTEND;TZID=America/Detroit:20220225T160000
DTSTAMP:20220218T215645Z
URL:https://miatsa.org/events/2022-rosac-training/
SUMMARY:2022 ROSAC Training
DESCRIPTION:Date: Friday\, February 25\, 2022\n\nTime: 9:00am-4:00pm\n\nVia
  Zoom\n\nCost: $100\n\nNote: Participants will need to purchase the ROSAC 
 Manual for use throughout the training. This can be purchased through Safe
 r Society Press for $30.\n\nCEUs: Provided for Social Workers and Psycholo
 gists\n\n\n\nJoin MI-ATSA for an all-day training on the Risk of Sexual Ab
 use of Children (ROSAC) structured risk assessment tool that aids in the d
 etermination of whether a particular adult male sexual abuser is at risk t
 o harm a particular child\, including under what circumstances that risk e
 xists.\n\nFrom his website (http://robertmcgrath.us/index.php/risk-instrum
 ents/rosac/)\, the following are situations in which the ROSAC may be help
 ful:\n\n 	A child protective services (CPS) agency is investigating a repo
 rt that a sexual abuser is now living with a family that has children and 
 the agency must determine the risk of sexual harm to the child and develop
  an intervention plan.\n 	A probation officer must determine whether to gr
 ant a probationer’s request to live in a home with children. The probati
 oner was previously convicted of committing a sexual offense.\n 	A mental 
 health professional\, CPS agency\, probation department\, and victim advoc
 ate are collaborating to determine whether to reunite a family in which th
 e father sexually abused one of his children.\n\nLearning Objectives\n\nDe
 scribe the theoretical and research basis for the ROSAC\n\nDescribe how th
 e ROSAC is constructed and scored\n\nLearn how to score and use the ROSAC 
 to make risk determinations\n\nLearn how to use ROSAC risk determinations 
 to develop basic safety plans\n\n&nbsp\;\n\nMcGrath\, R. J.\, Allin\, H. M
 .\, &amp\; Cumming\, G. F. (2015). Risk of Sexual Abuse of Children (ROSA
 C): Structured professional guidelines for assessing the risk a sexual abu
 ser poses to a child and making child contact decisions. Brandon\, VT: Saf
 er Society Press.\n\n&nbsp\;\n\n&nbsp\;\n\nWhen registering for this event
 \, finalize your registration by selecting the PayPal button below. This w
 ill take you to the payment page.
END:VEVENT
BEGIN:VTIMEZONE
TZID:America/Detroit
X-LIC-LOCATION:America/Detroit
BEGIN:STANDARD
DTSTART:20211107T010000
TZOFFSETFROM:-0400
TZOFFSETTO:-0500
TZNAME:EST
END:STANDARD
END:VTIMEZONE
END:VCALENDAR