BEGIN:VCALENDAR
VERSION:2.0
PRODID:-//wp-events-plugin.com//7.2.3.1//EN
TZID:America/Detroit
X-WR-TIMEZONE:America/Detroit
BEGIN:VEVENT
UID:104@miatsa.org
DTSTART;TZID=America/Detroit:20220524T110000
DTEND;TZID=America/Detroit:20220524T123000
DTSTAMP:20220418T223608Z
URL:https://miatsa.org/events/april-2022-juvenile-subcommittee-meeting/
SUMMARY:May 2022 Juvenile Subcommittee Meeting
DESCRIPTION:Join MIATSA board members and other professionals in discussing
  issues related to juveniles who have sexually offended. Event is open to 
 the public.\n\nDate: Tuesday\, May 24\, 2022\n\nTime: 11am-12:30pm\n\nVia 
 Zoom\n\n&nbsp\;\n\n&nbsp\;\n\nPlease contact mpena@hopenetwork.org with qu
 estions.
END:VEVENT
BEGIN:VTIMEZONE
TZID:America/Detroit
X-LIC-LOCATION:America/Detroit
BEGIN:DAYLIGHT
DTSTART:20220313T030000
TZOFFSETFROM:-0500
TZOFFSETTO:-0400
TZNAME:EDT
END:DAYLIGHT
END:VTIMEZONE
END:VCALENDAR