BEGIN:VCALENDAR
VERSION:2.0
PRODID:-//wp-events-plugin.com//7.2.3.1//EN
TZID:America/Detroit
X-WR-TIMEZONE:America/Detroit
BEGIN:VEVENT
UID:83@miatsa.org
DTSTART;TZID=America/Detroit:20190430T123000
DTEND;TZID=America/Detroit:20190430T133000
DTSTAMP:20190320T172357Z
URL:https://miatsa.org/events/april-board-meeting/
SUMMARY:April Board Meeting
DESCRIPTION:
LOCATION:Berghuis Psychological\, 436 – 44th St. SE\, Suite C\, Kentwood\
 , MI\, United States
X-APPLE-STRUCTURED-LOCATION;VALUE=URI;X-ADDRESS=436 – 44th St. SE\, Suite
  C\, Kentwood\, MI\, United States;X-APPLE-RADIUS=100;X-TITLE=Berghuis Psy
 chological:geo:0,0
END:VEVENT
BEGIN:VTIMEZONE
TZID:America/Detroit
X-LIC-LOCATION:America/Detroit
BEGIN:DAYLIGHT
DTSTART:20190310T030000
TZOFFSETFROM:-0500
TZOFFSETTO:-0400
TZNAME:EDT
END:DAYLIGHT
END:VTIMEZONE
END:VCALENDAR