BEGIN:VCALENDAR
VERSION:2.0
PRODID:-//wp-events-plugin.com//7.2.3.1//EN
TZID:America/Detroit
X-WR-TIMEZONE:America/Detroit
BEGIN:VEVENT
UID:100@miatsa.org
DTSTART;TZID=America/Detroit:20210820T090000
DTEND;TZID=America/Detroit:20210820T160000
DTSTAMP:20210614T223834Z
URL:https://miatsa.org/events/assessment-and-treatment-with-women-who-sexu
 ally-offend/
SUMMARY:Assessment and Treatment with Women who Sexually Offend
DESCRIPTION:Franca Cortoni\, Ph.D.\, C.Psych.\n\nDate: Friday\, August 20\,
  2021\n\nTime: 9:00am- 4:00pm Eastern via Zoom\n\nCost: $75\n\nCEUs: Curre
 ntly Pending for Psychology and Social Work\n\n&nbsp\;\n\nTraining Descrip
 tion: \n\nWomen who sexually offend constitute a small yet significant pro
 portion of all sexual offenders. In recent years\, increased empirical att
 ention has revealed a number of gender-specific issues related to female o
 ffending. As such\, women convicted of sexual offenses require gender-info
 rmed assessment\, treatment\, and management practices. This workshop will
  present the details of the evidence that indicates the need for a gender-
 informed approach to the assessment and treatment of women who have sexual
 ly offended. It will also include a discussion of empirically supported tr
 eatment practices with women to understand how best to approach interventi
 ons with women convicted of sexual offenses. It will conclude with a revie
 w of special considerations for their management. As relevant\, a contrast
  with male-based information will be provided.\n\n&nbsp\;\n\nSpeaker Bio:\
 n\nFranca Cortoni received her doctorate in clinical and forensic psycholo
 gy from Queen’s University at Kingston\, Ontario\, Canada. Since 1989\, 
 she has worked with and conducted research on female and male sexual offen
 ders. In 2007\, after many years with Correctional Services Canada\, she m
 oved to the School of Criminology at the Université de Montréal where sh
 e is Professor of criminological psychology. She is also a Research Fellow
  at the International Centre of Comparative Criminology. Her research focu
 ses on the factors associated with the development of sexual offending beh
 avior\, risk assessment\, and treatment of both male and female sexual off
 enders. She has published extensively on these issues. She was the 2018-20
 19 President of the Association for the Treatment of Sexual Abusers (ATSA)
 . Her latest project focuses on the effectiveness of treatment to reduce s
 exual offending behavior among men.\n\n&nbsp\;\n\n&nbsp\;
END:VEVENT
BEGIN:VTIMEZONE
TZID:America/Detroit
X-LIC-LOCATION:America/Detroit
BEGIN:DAYLIGHT
DTSTART:20210314T030000
TZOFFSETFROM:-0500
TZOFFSETTO:-0400
TZNAME:EDT
END:DAYLIGHT
END:VTIMEZONE
END:VCALENDAR