BEGIN:VCALENDAR
VERSION:2.0
PRODID:-//wp-events-plugin.com//7.2.3.1//EN
TZID:America/Detroit
X-WR-TIMEZONE:America/Detroit
BEGIN:VEVENT
UID:106@miatsa.org
DTSTART;TZID=America/Detroit:20230113T083000
DTEND;TZID=America/Detroit:20230113T153000
DTSTAMP:20221214T022935Z
URL:https://miatsa.org/events/compassion-fatigue-and-developing-resistance
 /
SUMMARY:Compassion Fatigue and Developing Resilience for Professionals work
 ing with Sex Offenders
DESCRIPTION:Dr. Tehmina Shakir\n\nFriday\, January 13\, 2023\n\n8:30am-3:30
 pm Eastern via Zoom\n\n6 Continuing Education Credits will be available\n\
 nThis interactive full-day training will provide participants information 
 on compassion fatigue and the opportunity to explore their own experience 
 of compassion fatigue. Discussion about how to manage compassion fatigue a
 nd develop resilience will also prompt participants to develop a self-care
  plan. Presentation and discussion will be specific to professionals worki
 ng with individuals who have committed sexual offenses.\n\nTopics to be di
 scussed will include:\n\n 	Historical developments in the understanding of
  compassion fatigue in the field of caregiving\n 	Recent research of compa
 ssion fatigue in professionals working with individuals who have committed
  sexual offenses\n 	The psychological and neurobiological underpinnings of
  compassion fatigue\n 	Secondary traumatic stress and burnout\n 	Resilienc
 e\n 	Strategies to develop resilience\n\n&nbsp\;\n\nPresenter Information:
 \n\nTehmina Shakir\, MD\, CCP\, CCTSS\, CCTP\, CSOTP\, CFRC\, CCFP\n\nChil
 d and Adolescent Psychiatrist\n\nAssistant Clinical Professor\, Wayne Sta
 te University Department of Psychiatry and Behavioral Neurosciences\n\nDir
 ector of Psychiatric Services\, Vista Maria Residential Treatment for You
 th\n\n&nbsp\;\n\n&nbsp\;\n\n&nbsp\;\n\nPlease note that when registering f
 or this conference\, you will need to complete all fields in the form belo
 w and then click on the PayPal logo to be directed to the payment page. If
  you have any questions or issues\, please email info@miatsa.org.
CATEGORIES:Training
END:VEVENT
BEGIN:VTIMEZONE
TZID:America/Detroit
X-LIC-LOCATION:America/Detroit
BEGIN:STANDARD
DTSTART:20221106T010000
TZOFFSETFROM:-0400
TZOFFSETTO:-0500
TZNAME:EST
END:STANDARD
END:VTIMEZONE
END:VCALENDAR