BEGIN:VCALENDAR
VERSION:2.0
PRODID:-//wp-events-plugin.com//7.2.3.1//EN
TZID:America/Detroit
X-WR-TIMEZONE:America/Detroit
BEGIN:VEVENT
UID:110@miatsa.org
DTSTART;TZID=America/Detroit:20241113T120000
DTEND;TZID=America/Detroit:20241113T130000
DTSTAMP:20240920T004931Z
URL:https://miatsa.org/events/connect-with-us/
SUMMARY:Connect with us!
DESCRIPTION:Join us for a virtual meeting on November 13 to connect\, hear 
 about MI-ATSA's goals for the upcoming year\, and share any exciting prese
 ntations we can all benefit from in Michigan.\n\nWe want to hear from you!
 \n\nFrom those attending the ATSA conference in San Antonio (October 16-18
 )\, what training/presentations did you find impactful? Are there presenta
 tions you believe we could benefit from duplicating/expanding upon in Mich
 igan?\n\nFor everyone—what training needs or gaps are you noticing? Are 
 there tools or resources specific to the mission of ATSA and MI-ATSA that 
 we should explore hosting/facilitating in Michigan? Our goal is to gather 
 your input to help us begin planning for 2025-2026 trainings.\n\n&nbsp\;\n
 \nPlease contact info@miatsa.org with any questions.
END:VEVENT
BEGIN:VTIMEZONE
TZID:America/Detroit
X-LIC-LOCATION:America/Detroit
BEGIN:STANDARD
DTSTART:20241103T010000
TZOFFSETFROM:-0400
TZOFFSETTO:-0500
TZNAME:EST
END:STANDARD
END:VTIMEZONE
END:VCALENDAR