BEGIN:VCALENDAR
VERSION:2.0
PRODID:-//wp-events-plugin.com//7.2.3.1//EN
TZID:America/Detroit
X-WR-TIMEZONE:America/Detroit
BEGIN:VEVENT
UID:97@miatsa.org
DTSTART;TZID=America/Detroit:20210420T110000
DTEND;TZID=America/Detroit:20210420T123000
DTSTAMP:20210407T223648Z
URL:https://miatsa.org/events/juvenile-sub-committee-meeting/
SUMMARY:Juvenile Sub-Committee Meeting
DESCRIPTION:Members of the public are welcome to attend MI-ATSA's quarterly
  meeting of the Juvenile Sub-Committee\, to discuss and learn about curren
 t policy issues related to juveniles who have sexually offended.\n\n&nbsp\
 ;\n\nDate: April 20\, 2021\n\nTime: 11am-12:30pm Eastern\n\nLocation: Onli
 ne (Zoom)\n\n&nbsp\;\n\nUse the link or information below to join via Zoom
 .\n\n\nhttps://us02web.zoom.us/j/84771358009?pwd=alptRmFqVDFibExEV3hJVy81R
 UJkdz09\n\nMeeting ID: 847 7135 8009\nPasscode: 879713\n\n\n\n\n\nPlease c
 ontact mpena@hopenetwork.org with questions.
END:VEVENT
BEGIN:VTIMEZONE
TZID:America/Detroit
X-LIC-LOCATION:America/Detroit
BEGIN:DAYLIGHT
DTSTART:20210314T030000
TZOFFSETFROM:-0500
TZOFFSETTO:-0400
TZNAME:EDT
END:DAYLIGHT
END:VTIMEZONE
END:VCALENDAR