BEGIN:VCALENDAR
VERSION:2.0
PRODID:-//wp-events-plugin.com//7.2.3.1//EN
TZID:America/Detroit
X-WR-TIMEZONE:America/Detroit
BEGIN:VEVENT
UID:92@miatsa.org
DTSTART;TZID=America/Detroit:20210105T110000
DTEND;TZID=America/Detroit:20210105T120000
DTSTAMP:20201119T011315Z
URL:https://miatsa.org/events/juvenile-sub-committee-quarterly-meeting/
SUMMARY:Juvenile Sub-Committee Quarterly Meeting
DESCRIPTION:All meetings will be through Zoom platform until further notice
 .\n\nPlease contact mpena@hopenetwork.org if you are interested in attendi
 ng.
END:VEVENT
BEGIN:VTIMEZONE
TZID:America/Detroit
X-LIC-LOCATION:America/Detroit
BEGIN:STANDARD
DTSTART:20201101T010000
TZOFFSETFROM:-0400
TZOFFSETTO:-0500
TZNAME:EST
END:STANDARD
END:VTIMEZONE
END:VCALENDAR