BEGIN:VCALENDAR
VERSION:2.0
PRODID:-//wp-events-plugin.com//7.2.3.1//EN
TZID:America/Detroit
X-WR-TIMEZONE:America/Detroit
BEGIN:VEVENT
UID:102@miatsa.org
DTSTART;TZID=America/Detroit:20211214T110000
DTEND;TZID=America/Detroit:20211214T123000
DTSTAMP:20211207T225850Z
URL:https://miatsa.org/events/juvenile-subcommittee-meeting-2/
SUMMARY:Juvenile Subcommittee Meeting
DESCRIPTION:MI-ATSA will be hosting a quarterly meeting for the Juvenile Su
 bcommittee via Zoom. Public is welcome to join and participate. Discussion
  will focus on policies affecting juveniles have sexually offended. Round 
 table discussion will also focus on goals and aims for the Subcommittee in
  the coming year.\n\nTopic: Juvenile Subcommittee Meeting\nTime: Dec 14\, 
 2021 11:00 AM Eastern Time (US and Canada)\n\nJoin Zoom Meeting\nhttps://u
 s02web.zoom.us/j/89124871769?pwd=YlBHeDh6MUFKZ2JFM2J4cnRrSEhVZz09\n\nMeeti
 ng ID: 891 2487 1769\nPasscode: 821481\n\n&nbsp\;\n\nPlease contact Megan 
 Pena at mpena@hopenetwork.org with questions.
END:VEVENT
BEGIN:VTIMEZONE
TZID:America/Detroit
X-LIC-LOCATION:America/Detroit
BEGIN:STANDARD
DTSTART:20211107T010000
TZOFFSETFROM:-0400
TZOFFSETTO:-0500
TZNAME:EST
END:STANDARD
END:VTIMEZONE
END:VCALENDAR