BEGIN:VCALENDAR
VERSION:2.0
PRODID:-//wp-events-plugin.com//7.2.3.1//EN
TZID:America/Detroit
X-WR-TIMEZONE:America/Detroit
BEGIN:VEVENT
UID:101@miatsa.org
DTSTART;TZID=America/Detroit:20210810T110000
DTEND;TZID=America/Detroit:20210810T120000
DTSTAMP:20210725T183234Z
URL:https://miatsa.org/events/juvenile-subcommittee-meeting/
SUMMARY:Juvenile Subcommittee Meeting
DESCRIPTION:Members of the public are welcome to attend MI-ATSA’s quarter
 ly meeting of the Juvenile Sub-Committee\, to discuss and learn about curr
 ent policy issues related to juveniles who have sexually offended.\n\n&nbs
 p\;\n\nDate: August 10\, 2021\n\nTime: 11am-12:00pm Eastern\n\nLocation: O
 nline (Zoom)\n\n&nbsp\;\n\nUse the link or information below to join via Z
 oom.\n\n\n\nhttps://us02web.zoom.us/j/85494591853?pwd=VTdGVVl5ODlOR2NpNC80
 TEdxclJrQT09\n\nMeeting ID: 854 9459 1853\nPasscode: 384554\n\n\n\n\n\nPle
 ase contact mpena@hopenetwork.org with questions.
END:VEVENT
BEGIN:VTIMEZONE
TZID:America/Detroit
X-LIC-LOCATION:America/Detroit
BEGIN:DAYLIGHT
DTSTART:20210314T030000
TZOFFSETFROM:-0500
TZOFFSETTO:-0400
TZNAME:EDT
END:DAYLIGHT
END:VTIMEZONE
END:VCALENDAR