BEGIN:VCALENDAR
VERSION:2.0
PRODID:-//wp-events-plugin.com//7.2.3.1//EN
TZID:America/Detroit
X-WR-TIMEZONE:America/Detroit
BEGIN:VEVENT
UID:114@miatsa.org
DTSTART;TZID=America/Detroit:20250826T120000
DTEND;TZID=America/Detroit:20250826T130000
DTSTAMP:20250813T234948Z
URL:https://miatsa.org/events/lunch-learn-learning-from-consumers-of-manda
 ted-sex-offending-programs/
SUMMARY:Lunch & Learn- Learning from Consumers of Mandated Sex-Offending Pr
 ograms
DESCRIPTION:Staying current in the helping professions is no easy task—bu
 t MIATSA is here to help.\n\nJoin us for the MIATSA Lunch &amp\; Learn Ser
 ies\, a free\, one-hour training where we dive into curated scholarly arti
 cles and books focused on sexual abuse prevention and supervision. Throug
 h collaborative discussion with peers\, you'll leave each session with co
 ncrete\, research-backed strategies you can apply in your work.\n\nLet’
 s grow and learn—together.\n\nThis month we will be discussing the 2024 
 article Learning from Consumers of Mandated Sex-Offending Programs: "It's 
 Not Treatment\, I Wish It Was" by Levenson\, Grady\, Lasoski\, &amp\; Coll
 ins (Sexual Abuse\, 36(2) pg 203-232).\n\n&nbsp\;\n\nOn August 26\, 2025\n
 \n12:00-1:00pm\n\nLunch &amp\; Learn Series\n via Zoom|  Free |  1 hour
  of training credit (not a CEU\, but can count toward MDOC contract hours)
 \n\nWhat to Expect:\n\n 	Discussion of key findings from leading research\
 n 	Application of insights to real-world supervision and treatment context
 s\n 	Peer-based conversation and support\n\nLearning Objectives:\n\n 	Anal
 yze key research findings in sexual abuse prevention and supervision.\n 	T
 ranslate evidence into practical tools for assessment\, treatment\, and su
 pervision.\n 	Evaluate how current literature supports or challenges your 
 current approach.\n\nMIATSA Membership is not required.\n\nPlease register
  below so we can send you the Zoom link prior to the event. Please contact
  info@miatsa.org with any questions or registration issues.
END:VEVENT
BEGIN:VTIMEZONE
TZID:America/Detroit
X-LIC-LOCATION:America/Detroit
BEGIN:DAYLIGHT
DTSTART:20250309T030000
TZOFFSETFROM:-0500
TZOFFSETTO:-0400
TZNAME:EDT
END:DAYLIGHT
END:VTIMEZONE
END:VCALENDAR