BEGIN:VCALENDAR
VERSION:2.0
PRODID:-//wp-events-plugin.com//7.2.3.1//EN
TZID:America/Detroit
X-WR-TIMEZONE:America/Detroit
BEGIN:VEVENT
UID:115@miatsa.org
DTSTART;TZID=America/Detroit:20260428T120000
DTEND;TZID=America/Detroit:20260428T130000
DTSTAMP:20260415T163347Z
URL:https://miatsa.org/events/lunch-learn-motivational-cognitive-factors-w
 omen-who-sexually-offend/
SUMMARY:Lunch & Learn - Motivational & Cognitive Factors in Pathways to Off
 ending Amongst Women who Have Sexually Offended
DESCRIPTION:Staying current with the research is important\, but it can be 
 overwhelming—MIATSA is here to help.\n\nJoin us for the MIATSA Lunch &am
 p\; Learn Series\, a free\, one-hour training that dives into curated scho
 larly articles\, books\, and evidence-based practices focused on sexual ab
 use prevention and supervision. Through collaborative discussion with peer
 s\, you'll leave each session with concrete\, research-backed strategies y
 ou can apply in your work.\n\nLet’s grow and learn—together.\n\nThis m
 onth\, we will be discussing the 2022 article "Motivational and Cognitive 
 Factors in Pathways to Offending Amongst Women who Have Sexually Offended"
  by Abulafia and Epstein (Sexual Abuse\, 34(5) 620-637).\n\nOn April 28\,
  2026\n\n12:00-1:00pm\n\nLunch &amp\; Learn Series\n via Zoom|  Free | 
  1 hour of training credit (not a CEU\, but can count toward MDOC contract
  hours)\n\nWhat to Expect:\n\n 	Discussion of key findings from leading re
 search\n 	Application of insights to real-world supervision and treatment 
 contexts\n 	Peer-based conversation and support\n\nLearning Objectives:\n\
 n 	\nImprove understanding of limitations in research for women who sexual
 ly offend\n 	Identify current best practices for women who sexually offend
 \n 	Discuss how to implement treatment objectives for women who sexually o
 ffend\n\nMIATSA Membership is not required.\n\nPlease register below so we
  can send you the Zoom link prior to the event. Please contact info@miatsa
 .org with any questions or registration issues.
END:VEVENT
BEGIN:VTIMEZONE
TZID:America/Detroit
X-LIC-LOCATION:America/Detroit
BEGIN:DAYLIGHT
DTSTART:20260308T030000
TZOFFSETFROM:-0500
TZOFFSETTO:-0400
TZNAME:EDT
END:DAYLIGHT
END:VTIMEZONE
END:VCALENDAR