BEGIN:VCALENDAR
VERSION:2.0
PRODID:-//wp-events-plugin.com//7.2.3.1//EN
TZID:America/Detroit
X-WR-TIMEZONE:America/Detroit
BEGIN:VEVENT
UID:96@miatsa.org
DTSTART;TZID=America/Detroit:20210317T130000
DTEND;TZID=America/Detroit:20210317T140000
DTSTAMP:20210223T020102Z
URL:https://miatsa.org/events/presentation-juvenile-sex-offenders-theory-e
 valuation-and-treatment/
SUMMARY:Presentation: Juvenile Sex Offenders: Theory\, Evaluation and Treat
 ment
DESCRIPTION:March 17\, 2021 1pm-2pm Eastern\n\nCost: Free\n\nDr. Tehmina Sh
 akir\, M.D.\, CCP will be giving a presentation on Juvenile Sex Offenders:
  Theory\, Evaluation and Treatment during the Wayne State School of Medici
 ne Chairman's Grand Rounds.\n\nView the event flyer for more information:\
 n\nMarch 2021 GR's Flyer\n\n&nbsp\;\n\nThe presentation will be hosted onl
 ine via Zoom by Wayne State University. To join the Zoom meeting\, use the
  link or the meeting information below:\nhttps://wayne-edu.zoom.us/j/93458
 063192?pwd=dlNCQmdscGxmVnBiUVlHdEt3bUZRZz09\nMeeting ID: 934 5806 3192\nPa
 sscode: 286052\nOne tap mobile\n+13126266799\,\,93458063192# US (Chicago)\
 n+16468769923\,\,93458063192# US (New York)\n&nbsp\;\n\nFor questions\, co
 ntact Dr. Shakir at tshakir@wayne.edu
END:VEVENT
BEGIN:VTIMEZONE
TZID:America/Detroit
X-LIC-LOCATION:America/Detroit
BEGIN:DAYLIGHT
DTSTART:20210314T030000
TZOFFSETFROM:-0500
TZOFFSETTO:-0400
TZNAME:EDT
END:DAYLIGHT
END:VTIMEZONE
END:VCALENDAR