BEGIN:VCALENDAR
VERSION:2.0
PRODID:-//wp-events-plugin.com//7.2.3.1//EN
TZID:America/Detroit
X-WR-TIMEZONE:America/Detroit
BEGIN:VEVENT
UID:93@miatsa.org
DTSTART;TZID=America/Detroit:20210127T090000
DTEND;TZID=America/Detroit:20210127T173000
DTSTAMP:20210127T151410Z
URL:https://miatsa.org/events/profesor-training-with-dr-james-worling/
SUMMARY:PROFESOR training with Dr. James Worling
DESCRIPTION:PLEASE NOTE:\n\nThis event is currently full. Another date for 
 this training is being planned and will be added to our website soon. You 
 can email info@miatsa.org to be placed on a waitlist for an advance regist
 ration notification when that event is planned.\n\n&nbsp\;\n\nDr. James R.
  Worling\, Ph.D.\, C.Psych.\, ATSAF\n\nMIATSA is partnering with Dr. James
  R. Worling to offer an online webinar in the Protective + Risk Observatio
 ns For Eliminating Sexual Offense Recidivism (PROFESOR).\n\nDate/Time: Wed
 nesday\, January 27th\, 2021\, 9:00am-5:00pm ET\n\nFormat: Online (Zoom) W
 ebinar\n\nCost: $100 per person\n\nAttendance is limited to 60 participant
 s\n\n&nbsp\;\n\nPROFESOR\n\nThis workshop will begin with an overview of t
 he scientific and practical limitations of current risk prediction tools a
 nd approaches\, and we will discuss some of the exciting\, recent research
  regarding protective factors—i.e.\, factors that protect against sexual
  reoffending.  Following an outline of the rationale for the development 
 of a new tool and approach\, the central focus of this workshop will be to
  introduce participants to the application of the PROFESOR (Protective + R
 isk Observations For Eliminating Sexual Offense Recidivism) through the us
 e of numerous examples. The PROFESOR is a new\, experimental checklist des
 igned to identify and summarize protective and risk factors for adolescent
 s and emerging adults who have offended sexually (i.e.\, those aged 12 to 
 25).  Whereas most risk assessment tools that are currently in use in the
  field were intended to predict the future\, the PROFESOR is designed to a
 ssist with planning interventions that can help individuals to enhance the
 ir capacity for sexual and relationship health and\, thus\, eliminate sexu
 al recidivism. We will conclude the workshop with a brief overview of some
  tips and techniques for helping clients to talk about difficult issues.\n
 \nFor more information on the PROFESOR\, visit www.profesor.ca. \n\nLearn
 ing objectives:\n\nAt the conclusion of this full-day workshop\, participa
 nts will:\n\n 	Be aware of the scientific and practical limitations regard
 ing our ability to accurately predict future sexual recidivism\n 	Learn ab
 out recent research where protective factors (i.e.\, factors that protect 
 against sexual recidivism) for sexual recidivism have been identified for 
 adults and adolescents\n 	Understand the rationale for the development of 
 a new measure to assess risk and protective factors\n 	Have the opportunit
 y to learn and practice the coding rules for the PROFESOR\n 	Learn some co
 ncrete tips for helping clients to talk about issues that they may be relu
 ctant to discuss.\n\nSpeaker Bio\n\nDr. Worling is a clinical and forensic
  psychologist in full-time private practice who has worked extensively wit
 h adolescents who have sexually offended\, and their families\, since 1988
 .  He also works with children and adolescents who have been sexually abu
 sed and with children under 12 who have engaged in harming sexual behaviou
 rs.  Dr. Worling has presented many workshops locally and internationally
 \, and he has written a number of professional articles and book chapters 
 regarding the etiology\, assessment\, and treatment of adolescent sexual a
 ggression.  Dr. Worling is a fellow of the Association for the Treatment 
 of Sexual abusers\, and he serves on the editorial board for their journal
 \, Sexual Abuse.\n\n&nbsp\;\n\n&nbsp\;\n\n&nbsp\;\n\n&nbsp\;\n\nTraining m
 aterials will be provided online prior to the training.\n\nPlease direct a
 ny questions to info@miatsa.org
END:VEVENT
BEGIN:VTIMEZONE
TZID:America/Detroit
X-LIC-LOCATION:America/Detroit
BEGIN:STANDARD
DTSTART:20201101T010000
TZOFFSETFROM:-0400
TZOFFSETTO:-0500
TZNAME:EST
END:STANDARD
END:VTIMEZONE
END:VCALENDAR