BEGIN:VCALENDAR
VERSION:2.0
PRODID:-//wp-events-plugin.com//7.2.3.1//EN
TZID:America/Detroit
X-WR-TIMEZONE:America/Detroit
BEGIN:VEVENT
UID:85@miatsa.org
DTSTART;TZID=America/Detroit:20200430T083000
DTEND;TZID=America/Detroit:20200430T163000
DTSTAMP:20200320T002522Z
URL:https://miatsa.org/events/rosac-training-with-bob-mcgrath-thursday/
SUMMARY:ROSAC Training with Bob McGrath - Thursday (CLOSED)
DESCRIPTION:DUE TO COVID-19 THIS TRAINING DAY HAS BEEN CANCELED. THE TRAINI
 NG WILL INSTEAD BE OFFERED VIA A WEBINAR FORMAT ON FRIDAY 5/1/20 AND ALL R
 EGISTRANTS HAVE BEEN EMAILED TO INFORM OF THIS CHANGE AND TO PROCESS ANY N
 EEDED REFUNDS. \nPLEASE REACH OUT TO INFO@MIATSA.ORG FOR ANY QUESTIONS.\n&
 nbsp\;\n\n\n\nJoin MI-ATSA for an all-day training on the Risk of Sexual A
 buse of Children (ROSAC) structured risk assessment tool that aids in the 
 determination of whether a particular adult male sexual abuser is at risk 
 to harm a particular child\, including under what circumstances that risk 
 exists.\n\nFrom his website (http://robertmcgrath.us/index.php/risk-instru
 ments/rosac/)\, the following are situations in which the ROSAC may be hel
 pful:\n\n 	A child protective services (CPS) agency is investigating a rep
 ort that a sexual abuser is now living with a family that has children and
  the agency must determine the risk of sexual harm to the child and develo
 p an intervention plan.\n 	A probation officer must determine whether to g
 rant a probationer’s request to live in a home with children. The probat
 ioner was previously convicted of committing a sexual offense.\n 	A mental
  health professional\, CPS agency\, probation department\, and victim advo
 cate are collaborating to determine whether to reunite a family in which t
 he father sexually abused one of his children.\n\nLearning Objectives\n\n 
 	\n\n 	Describe the theoretical and research basis for the ROSAC\n 	Descri
 be how the ROSAC is constructed and scored\n 	Learn how to score and use t
 he ROSAC to make risk determinations\n 	Learn how to use ROSAC risk determ
 inations to develop basic safety plans\n\n\n\nMcGrath\, R. J.\, Allin\, H.
  M.\, &amp\; Cumming\, G. F. (2015). Risk of Sexual Abuse of Children (RO
 SAC): Structured professional guidelines for assessing the risk a sexual a
 buser poses to a child and making child contact decisions. Brandon\, VT: S
 afer Society Press.\nA TACO BAR LUNCH AND 6 CEUS ARE INCLUDED IN THE TRAIN
 ING FEE.\n                                          
                               REGISTRATION IS FROM 8:30AM t
 o 9:00AM.
ATTACH;FMTTYPE=image/jpeg:https://i0.wp.com/miatsa.org/wp-content/uploads/
 2019/12/ROSAC_Cover_screen_shot.png?fit=630%2C800&ssl=1
CATEGORIES:Training
LOCATION:Wedgewood Christian Services\, 3300 36th St. SE\, Grand Rapids\, M
 I\, 49512\, United States
X-APPLE-STRUCTURED-LOCATION;VALUE=URI;X-ADDRESS=3300 36th St. SE\, Grand Ra
 pids\, MI\, 49512\, United States;X-APPLE-RADIUS=100;X-TITLE=Wedgewood Chr
 istian Services:geo:0,0
END:VEVENT
BEGIN:VTIMEZONE
TZID:America/Detroit
X-LIC-LOCATION:America/Detroit
BEGIN:DAYLIGHT
DTSTART:20200308T030000
TZOFFSETFROM:-0500
TZOFFSETTO:-0400
TZNAME:EDT
END:DAYLIGHT
END:VTIMEZONE
END:VCALENDAR