BEGIN:VCALENDAR
VERSION:2.0
PRODID:-//wp-events-plugin.com//7.2.3.1//EN
TZID:America/Detroit
X-WR-TIMEZONE:America/Detroit
BEGIN:VEVENT
UID:86@miatsa.org
DTSTART;TZID=America/Detroit:20200501T083000
DTEND;TZID=America/Detroit:20200501T160000
DTSTAMP:20200501T140715Z
URL:https://miatsa.org/events/rosac-training-with-bob-mcgrath/
SUMMARY:ROSAC Training with Bob McGrath - Friday [WEBINAR FORMAT]
DESCRIPTION:DUE TO COVID-19 THIS TRAINING IS BEING CONVERTED TO A LIVE WEBI
 NAR FORMAT VIA ZOOM. ALL REGISTRANTS HAVE BEEN EMAILED TO INFORM OF THIS C
 HANGE AND TO PROCESS ANY NEEDED REFUNDS. ANYONE WHO REGISTERED BEFORE 3/27
 /20 WILL HAVE A COPY OF THE ROSAC MANUAL MAILED TO THEM OR AVAILABLE FOR P
 ICKUP AT BERGHUIS PSYCHOLOGICAL IF ACCESSIBLE. AFTER 3/27/20\, THE TRAININ
 G PRICE WILL BE ADJUSTED TO ACCOUNT FOR THE REGISTRANT BEING REQUIRED TO P
 URCHASE THEIR OWN MANUAL THROUGH SAFER SOCIETY (https://safersocietypress.
 org/store/risk-of-sexual-abuse-of-children/) AND USE THE COUPON CODE "Bust
  COVID-19" FOR A REDUCED RATE THROUGH 5/1/20.\nTHIS EVENT BEGINS AT 9:00AM
 \nA LINK WILL BE EMAILED THE MORNING OF THE WEBINAR.\nPLEASE REACH OUT TO 
 INFO@MIATSA.ORG FOR ANY QUESTIONS.\n\n\nJoin MI-ATSA for an all-day traini
 ng on the Risk of Sexual Abuse of Children (ROSAC) structured risk assessm
 ent tool that aids in the determination of whether a particular adult male
  sexual abuser is at risk to harm a particular child\, including under wha
 t circumstances that risk exists.\n\nFrom his website (http://robertmcgrat
 h.us/index.php/risk-instruments/rosac/)\, the following are situations in 
 which the ROSAC may be helpful:\n\n 	A child protective services (CPS) age
 ncy is investigating a report that a sexual abuser is now living with a fa
 mily that has children and the agency must determine the risk of sexual ha
 rm to the child and develop an intervention plan.\n 	A probation officer m
 ust determine whether to grant a probationer’s request to live in a home
  with children. The probationer was previously convicted of committing a s
 exual offense.\n 	A mental health professional\, CPS agency\, probation de
 partment\, and victim advocate are collaborating to determine whether to r
 eunite a family in which the father sexually abused one of his children.\n
 \nLearning Objectives\n\n 	\n\n 	Describe the theoretical and research bas
 is for the ROSAC\n 	Describe how the ROSAC is constructed and scored\n 	Le
 arn how to score and use the ROSAC to make risk determinations\n 	Learn ho
 w to use ROSAC risk determinations to develop basic safety plans\n\n\n\nMc
 Grath\, R. J.\, Allin\, H. M.\, &amp\; Cumming\, G. F. (2015). Risk of Sex
 ual Abuse of Children (ROSAC): Structured professional guidelines for ass
 essing the risk a sexual abuser poses to a child and making child contact 
 decisions. Brandon\, VT: Safer Society Press.\n 6 CEUS ARE INCLUDED IN TH
 E TRAINING FEE\n                                      
                                     
ATTACH;FMTTYPE=image/jpeg:https://i0.wp.com/miatsa.org/wp-content/uploads/
 2019/12/ROSAC_Cover_screen_shot.png?fit=630%2C800&ssl=1
CATEGORIES:Training
END:VEVENT
BEGIN:VTIMEZONE
TZID:America/Detroit
X-LIC-LOCATION:America/Detroit
BEGIN:DAYLIGHT
DTSTART:20200308T030000
TZOFFSETFROM:-0500
TZOFFSETTO:-0400
TZNAME:EDT
END:DAYLIGHT
END:VTIMEZONE
END:VCALENDAR