BEGIN:VCALENDAR
VERSION:2.0
PRODID:-//wp-events-plugin.com//7.2.3.1//EN
TZID:America/Detroit
X-WR-TIMEZONE:America/Detroit
BEGIN:VEVENT
UID:107@miatsa.org
DTSTART;TZID=America/Detroit:20230710T113000
DTEND;TZID=America/Detroit:20230710T153000
DTSTAMP:20230711T090136Z
URL:https://miatsa.org/events/save-the-date-providing-clinical-care-to-lgb
 tq-people/
SUMMARY:Providing Clinical Care to LGBTQ+ People
DESCRIPTION:July 10\, 2023\n\n11:30am to 3:30pm\n\nOnline Webinar\n\nCost t
 o attend is free\, CEUs will cost $10\n\nCEUs will be available for Psycho
 logy and Social Work\n\n&nbsp\;\n\nJazz McKinney\, executive director of t
 he Grand Rapids Pride Center\, will be providing a webinar on providing cl
 inical care to LGBTQ+ people. This webinar will be focused on general comp
 onents of providing clinical care to LGBTQ+ clients that can be applicable
  to individuals who have committed a sexual offense.\n\nJazz McKinney has 
 been involved in the mental health field for more than 10 years and has wo
 rked for racial justice and advocacy for more than 18 years. McKinney is a
 lso the co-owner and lead trainer of Paradigm Shifts Consulting and has re
 cently offered the keynote address at the Grand Rapids Community College (
 GRCC) Black History Month Celebration\, as well as a Diversity Lecture for
  the GRCC Office of Diversity\, Equity\, and Inclusion.\n\n&nbsp\;\n\nRegi
 stration is processed through PayPal. Please select the PayPal button belo
 w to finalize your registration.\n\nContact info@miatsa.org with any quest
 ions or concerns.
END:VEVENT
BEGIN:VTIMEZONE
TZID:America/Detroit
X-LIC-LOCATION:America/Detroit
BEGIN:DAYLIGHT
DTSTART:20230312T030000
TZOFFSETFROM:-0500
TZOFFSETTO:-0400
TZNAME:EDT
END:DAYLIGHT
END:VTIMEZONE
END:VCALENDAR