BEGIN:VCALENDAR
VERSION:2.0
PRODID:-//wp-events-plugin.com//7.2.3.1//EN
TZID:America/Detroit
X-WR-TIMEZONE:America/Detroit
BEGIN:VEVENT
UID:113@miatsa.org
DTSTART;TZID=America/Detroit:20250723T120000
DTEND;TZID=America/Detroit:20250723T130000
DTSTAMP:20250626T000152Z
URL:https://miatsa.org/events/sex-offense-agent-support-group/
SUMMARY:Sex Offense Agent Support Group
DESCRIPTION:&nbsp\;\n\nRegistration not required.\n\nClick here to join Zoo
 m Meeting
ATTACH;FMTTYPE=image/jpeg:https://miatsa.org/wp-content/uploads/2025/06/Ag
 ent-Support-Group-1-pdf.jpg
END:VEVENT
BEGIN:VTIMEZONE
TZID:America/Detroit
X-LIC-LOCATION:America/Detroit
BEGIN:DAYLIGHT
DTSTART:20250309T030000
TZOFFSETFROM:-0500
TZOFFSETTO:-0400
TZNAME:EDT
END:DAYLIGHT
END:VTIMEZONE
END:VCALENDAR