BEGIN:VCALENDAR
VERSION:2.0
PRODID:-//wp-events-plugin.com//7.2.3.1//EN
TZID:America/Detroit
X-WR-TIMEZONE:America/Detroit
BEGIN:VEVENT
UID:91@miatsa.org
DTSTART;TZID=America/Detroit:20201117T080000
DTEND;TZID=America/Detroit:20201117T163000
DTSTAMP:20201030T162234Z
URL:https://miatsa.org/events/stable-2007-training/
SUMMARY:STABLE 2007 training
DESCRIPTION:The following training in risk assessment for adult males with 
 a history of sexually abusive behaviors are available at no cost to indivi
 duals working for mental health\, criminal justice\, education and other p
 rofessional fields and reside in Michigan.  Email James Kissinger at Kiss
 ingerj@michigan.gov if you have questions or believe you qualify for part
 icipation and are interested in attending.\n&nbsp\;\nTuesday 11/17/2020\nW
 ebinar via Microsoft Teams platform\nAll day – 8:30 am to 4:30 pm
END:VEVENT
BEGIN:VTIMEZONE
TZID:America/Detroit
X-LIC-LOCATION:America/Detroit
BEGIN:STANDARD
DTSTART:20201101T010000
TZOFFSETFROM:-0400
TZOFFSETTO:-0500
TZNAME:EST
END:STANDARD
END:VTIMEZONE
END:VCALENDAR