BEGIN:VCALENDAR
VERSION:2.0
PRODID:-//wp-events-plugin.com//7.2.3.1//EN
TZID:America/Detroit
X-WR-TIMEZONE:America/Detroit
BEGIN:VEVENT
UID:88@miatsa.org
DTSTART;TZID=America/Detroit:20200928T083000
DTEND;TZID=America/Detroit:20200928T163000
DTSTAMP:20200917T003004Z
URL:https://miatsa.org/events/stable-2007/
SUMMARY:Stable 2007
DESCRIPTION:The Stable 2007 is a risk assessment tool for adult males with 
 a history of sexually abusive behaviors.\nWebinar via Microsoft Teams plat
 form\nAll day – 8:30 am to 4:30 pm\n&nbsp\;\n\nThis webinar is available
  at no cost to individuals working for mental health\, criminal justice\, 
 education and other professional fields in Michigan.  Email James Kissing
 er at Kissingerj@michigan.gov if you have questions or believe you qualif
 y for participation and are interested in attending.
END:VEVENT
BEGIN:VTIMEZONE
TZID:America/Detroit
X-LIC-LOCATION:America/Detroit
BEGIN:DAYLIGHT
DTSTART:20200308T030000
TZOFFSETFROM:-0500
TZOFFSETTO:-0400
TZNAME:EDT
END:DAYLIGHT
END:VTIMEZONE
END:VCALENDAR