BEGIN:VCALENDAR
VERSION:2.0
PRODID:-//wp-events-plugin.com//7.2.3.1//EN
TZID:America/Detroit
X-WR-TIMEZONE:America/Detroit
BEGIN:VEVENT
UID:89@miatsa.org
DTSTART;TZID=America/Detroit:20201008T083000
DTEND;TZID=America/Detroit:20201008T163000
DTSTAMP:20200917T003041Z
URL:https://miatsa.org/events/static-99r/
SUMMARY:Static-99R
DESCRIPTION:The Static-99R is a risk assessment tool for adult males with a
  history of sexually abusive behaviors.\nWebinar via Microsoft Teams platf
 orm\nAll day – 8:30 am to 4:30 pm\n&nbsp\;\n\nThis webinar is available 
 at no cost to individuals working for mental health\, criminal justice\, e
 ducation and other professional fields in Michigan.  Email James Kissinge
 r at Kissingerj@michigan.gov if you have questions or believe you qualify
  for participation and are interested in attending.
END:VEVENT
BEGIN:VTIMEZONE
TZID:America/Detroit
X-LIC-LOCATION:America/Detroit
BEGIN:DAYLIGHT
DTSTART:20200308T030000
TZOFFSETFROM:-0500
TZOFFSETTO:-0400
TZNAME:EDT
END:DAYLIGHT
END:VTIMEZONE
END:VCALENDAR