BEGIN:VCALENDAR
VERSION:2.0
PRODID:-//wp-events-plugin.com//7.2.3.1//EN
TZID:America/Detroit
X-WR-TIMEZONE:America/Detroit
BEGIN:VEVENT
UID:111@miatsa.org
DTSTART;TZID=America/Detroit:20250307T083000
DTEND;TZID=America/Detroit:20250307T123000
DTSTAMP:20250117T005913Z
URL:https://miatsa.org/events/working-with-personality-in-sexual-offending
 -treatment/
SUMMARY:Working with Personality in Sexual Offending Treatment
DESCRIPTION:Presented by Heather Moulden\n\nThis training provides a review
  of personality development and its role in problematic sexual behaviour. 
 With this understanding clinical applications will be described with an em
 phasis on therapeutic approaches and techniques to improve client outcomes
  and prevent clinician burnout.\n\n&nbsp\;\n\nZoom Webinar\n\n$100 non-mem
 bers\; $90 members\n\n4 CEU credits\n\n&nbsp\;\n\nTraining Objectives:\n\n
  	Review normal personality and personality pathology development\n 	Revie
 w role of personality in sex offending onset and persistence\n 	Discuss cl
 inical implications for sexual offending treatment\, preventing clinician 
 burnout\n\nPresenter Biography:\n\nHeather Moulden is a Psychologist in th
 e Forensic Psychiatry Program\, and Clinical Chair in Sexual Disorders\, a
 t St. Joseph's Healthcare Hamilton\, and an Associate Professor in the Dep
 artment of Psychiatry and Behavioural Neurosciences at McMaster University
 . Heather has authored over 50 publications\, and has presented at scholar
 ly conferences both nationally and internationally. She is the Sexual Diso
 rders section co-editor of Current Psychiatry Reports\, and an editorial b
 oard member of Sexual Abuse\, the Journal of Child Sexual Abuse\, and Fron
 tiers in Psychiatry. Heather is a Member of the Board of Directors of the 
 Association for the Treatment and Prevention of Sexual Abuse\, where she h
 as also been recognized as a Fellow for her clinical and research work.\n\
 n&nbsp\;\n\n&nbsp\;\n\nPlease contact info@miatsa.org with questions or as
 sistance with registration.\n\nRegistration ends 3/6/25 at 11:45pm.\n\n&nb
 sp\;\n\n&nbsp\;
CATEGORIES:Training
END:VEVENT
BEGIN:VTIMEZONE
TZID:America/Detroit
X-LIC-LOCATION:America/Detroit
BEGIN:STANDARD
DTSTART:20241103T010000
TZOFFSETFROM:-0400
TZOFFSETTO:-0500
TZNAME:EST
END:STANDARD
END:VTIMEZONE
END:VCALENDAR